BEGIN:VCALENDAR
VERSION:2.0
PRODID:-//Sabre//Sabre VObject 4.5.8//EN
CALSCALE:GREGORIAN
METHOD:PUBLISH
BEGIN:VEVENT
UID:sabre-vobject-f39955a3-39af-47ab-b83f-ad6224b5eb76
DTSTAMP:20260419T144330Z
SUMMARY:Taxation
DESCRIPTION:Chair : Elly Schlein\, MEP (S&amp\;D) Panellists:Tove Maria Ryd
 ing\,Tax Justice Coordinator at the European Network on Debt and Developme
 nt (Eurodad) Sol Piciotto\, Emeritus Professor of law of Lancaster Univers
 ity\, Member of the Advisory Group of the International Centre for Tax and
  DevelopmentRichard Murphy\, Professor of Practice in International Politi
 cal Economy at City University\, London and Director of Tax Research UK\, 
 Non-Executive Director of Cambridge EconometricsPhilip Kerfs\, OECD\, Head
  of the International Cooperation division
DTSTART;TZID=Europe/Berlin:20180918T000000
DTEND;TZID=Europe/Berlin:20180919T000000
LOCATION: \, Brüssel (Belgien) 
BEGIN:VALARM
ACTION:DISPLAY
DESCRIPTION:Taxation
TRIGGER:-PT30M
END:VALARM
END:VEVENT
END:VCALENDAR
