BEGIN:VCALENDAR
VERSION:2.0
PRODID:-//Sabre//Sabre VObject 4.5.8//EN
CALSCALE:GREGORIAN
METHOD:PUBLISH
BEGIN:VEVENT
UID:sabre-vobject-caa0f52d-d973-4c7f-adc2-0db55825c1ba
DTSTAMP:20260419T154713Z
SUMMARY:Strategic Design Thinking For Every Day
DESCRIPTION:This is an online course for everyone who wants to use Strategi
 c Design Thinking for everyday challenges. You learn to use the whole pote
 ntial of the approach\, going beyond the method and the tools. Equip yours
 elf with the most impactful Design Thinking principles to unlock your inno
 vation capacity in complex\, highly constrained situations.
DTSTART;TZID=Europe/Berlin:20200709T000000
DTEND;TZID=Europe/Berlin:20200806T000000
LOCATION:Prof.-Dr.-Helmert-Straße 2-3 \, Potsdam (Deutschland) 
BEGIN:VALARM
ACTION:DISPLAY
DESCRIPTION:Strategic Design Thinking For Every Day
TRIGGER:-PT30M
END:VALARM
END:VEVENT
END:VCALENDAR
