BEGIN:VCALENDAR
VERSION:2.0
PRODID:-//Sabre//Sabre VObject 4.5.8//EN
CALSCALE:GREGORIAN
METHOD:PUBLISH
BEGIN:VEVENT
UID:sabre-vobject-ca1324f4-5077-4b85-be1a-bb557a799f61
DTSTAMP:20260423T081118Z
SUMMARY:Last Exit nach dem Brexit
DESCRIPTION:Noch nie stand Europa so unter Beschuss wie jetzt. Wünsche nac
 h einer Rückabwicklung der Integration stehen im Raum oder haben auch sch
 on in einigen Mitgliedsstaaten der EU zu konkreten Schritten geführt. Die
  Kritik wird begleitet von ganz unterschiedlichen Einschätzungen über di
 e Versäumnisse und Fehler\, die in der Vergangenheit begangen wurden. Hin
 zukommt eine mehr oder weniger offen erklärte EU-Feindschaft durch weltpo
 litische Akteure wie Trump und Putin.\nDie Kräfte des Zusammenhalts schei
 nen demgegenüber am Schwinden\, die Verteidigung der EU als politisches P
 rojekt vergleichsweise schwach. Die europäische Integration hat viele Fei
 nde\, der Nationalismus ist in vielen Ländern Staatsdoktrin geworden\, de
 r Traum eines geeinten Europa hingegen kaum noch attraktiv.\nZwei Wochen v
 or der Europawahl möchten die Römerberggespräche in der „Europastadt 
 Frankfurt“ wissen\, ob Europa angesichts der vielfach artikulierten Entt
 äuschungen und dem grassierenden Hass auf „Brüssel“ noch zu retten i
 st. Und wenn ja\, wie müssten die notwendigen Schritte einer solchen Rett
 ung aussehen? Und was dürfen wir uns erhoffen?\n\nDie Veranstaltung ist 
 öffentlich. Der Eintritt ist frei.\n\nModeration: Alf Mentzer (Leiter des
  Ressorts hr2-Tagesprogramm im Hessischen Rundfunk)\n\nProgramm:\n10.00 Uh
 r\nBegrüßung Ina Hartwig (Dezernentin für Kultur und Wissenschaft)\n\n1
 0.15 Uhr\nEuropawahlen als europäische Protestwahlen\nPhilip Manow (Unive
 rsität Bremen)\n\n11.15 Uhr\nWo versteckt sich die europäische Öffentli
 chkeit?\nChristine Landfried (Emeritierte Professorin für Politikwissensc
 haft an der Universität Hamburg)\n\n12.15 Uhr\nEuropa\, werde wesentlich!
  Ein Plädoyer wider Überspannung und Moralisierung\nAndreas Rödder (Pro
 fessor für Neueste Geschichte an der Johannes Gutenberg-Universität Main
 z)\n\n14.15 Uhr\n"Souveränität Europas" oder zurück zum Nationalstaat? 
 Mögliche Szenarien für die Zukunft der Europäischen Union\nStefan Kadel
 bach (Professor für Öffentliches Recht an der Goethe-Universität Frankf
 urt am Main und Principal Investigator des Excellenzclusters „Die Heraus
 bildung normativer Ordnungen“)\n\n15.30 Uhr\nWelche Reformen braucht die
  Europäische Republik?\nMara-Daria Cojocaru** (Hochschule für Philosophi
 e München) und **Ulrike Guérot** (Leiterin des Departments für Europapo
 litik und Demokratieforschung an der Donau-Universität Krems) im Gespräc
 h mit **Alf Mentzer\n\n17.00 Uhr\nAm Puls Europas?\nDaniel Röder (Rechtsa
 nwalt und Mediator)\n\nVeranstalter: Römerberggespräche e.V. in Zusammen
 arbeit mit dem Exzellenzcluster "Die Herausbildung normativer Ordnungen" u
 nd weitere Partner
DTSTART;TZID=Europe/Berlin:20190511T100000
DTEND;TZID=Europe/Berlin:20190511T180000
LOCATION:Neue Mainzer Str. 17 \, Frankfurt am Main (Deutschland) 
BEGIN:VALARM
ACTION:DISPLAY
DESCRIPTION:Last Exit nach dem Brexit
TRIGGER:-PT30M
END:VALARM
END:VEVENT
END:VCALENDAR
