BEGIN:VCALENDAR
VERSION:2.0
PRODID:-//Sabre//Sabre VObject 4.5.8//EN
CALSCALE:GREGORIAN
METHOD:PUBLISH
BEGIN:VEVENT
UID:sabre-vobject-287b67cb-9625-49cf-871e-de6bc6f406de
DTSTAMP:20260421T082831Z
SUMMARY:MDH ARCHITECTS
DESCRIPTION:After having successfully navigated our first ever digital talk
  in May with Waugh Thistleton Architects\, we are looking forward to our s
 econd talk of the semester with Helge Lunder from MDH Architects in Oslo. 
 Continuing our semester focus on urban timber construction\, MDH gained si
 gnificant publicity in 2016 with their Moholt Timber Towers project\, an 8
 -storey student housing project in CLT which was recongnised with a number
  of prizes and short listed for the 2018 Mies Van der Rohe Award. Since th
 en they have also completed a timber kindergarten and library as part of t
 he same Moholt student village masterplan. We are looking forward to heari
 ng more about MDHs projects and the way that timber construction is headin
 g in Norway.\n\nThe talk will be held via zoom.
DTSTART;TZID=Europe/Berlin:20200625T180000
DTEND;TZID=Europe/Berlin:20200625T000000
LOCATION:Straße des 17. Juni 152 \, Berlin (Deutschland) 
BEGIN:VALARM
ACTION:DISPLAY
DESCRIPTION:MDH ARCHITECTS
TRIGGER:-PT30M
END:VALARM
END:VEVENT
END:VCALENDAR
