BEGIN:VCALENDAR
VERSION:2.0
PRODID:-//Sabre//Sabre VObject 4.5.8//EN
CALSCALE:GREGORIAN
METHOD:PUBLISH
BEGIN:VEVENT
UID:sabre-vobject-b67c094a-21a0-4f26-bfd5-f49c884cbd25
DTSTAMP:20260419T154556Z
SUMMARY:Race\, Policing\, and Guns
DESCRIPTION:In the ongoing national conversations about policing\, protest\
 , racism\, and violence\, the role of guns plays an important part. And wi
 th gun purchasing\, carrying\, and brandishing increasingly in the news du
 ring the Covid-19 pandemic\, the intersection of these issues takes on hei
 ghtened importance. Join us for an online panel discussion about these iss
 ues. Panelists include Duke's own Darrell Miller\, Melvin G. Shimm Profess
 or of Law\, Associate Dean for Intellectual Life\, and Faculty Co-Director
  of the Center for Firearms Law\; Kami Chavis\, Associate Provost for Acad
 emic Initiatives\, Professor of Law\, and Director of Criminal Justice Pro
 gram at Wake Forest University School of Law\; Alice Ristroph\, Professor 
 of Law at Brooklyn Law School\; and Stuart Schrader\, Lecturer and Assista
 nt Research Scientist in Sociology at Johns Hopkins University. Sponsored 
 by the Center for Firearms Law. Contact Theresa Boyce for more information
 .
DTSTART;TZID=Europe/Berlin:20200903T123000
DTEND;TZID=Europe/Berlin:20200903T133000
LOCATION:210 Science Drive \, Durham (United States of America) 
BEGIN:VALARM
ACTION:DISPLAY
DESCRIPTION:Race\, Policing\, and Guns
TRIGGER:-PT30M
END:VALARM
END:VEVENT
END:VCALENDAR
