BEGIN:VCALENDAR
VERSION:2.0
PRODID:-//Sabre//Sabre VObject 4.5.8//EN
CALSCALE:GREGORIAN
METHOD:PUBLISH
BEGIN:VEVENT
UID:sabre-vobject-068b856f-527a-4603-8ab2-970e3b0766dd
DTSTAMP:20260422T095445Z
SUMMARY:The Nature and Future of Information Confrontation
DESCRIPTION:The Center for the Governance of Change (CGC) is launching Conv
 ersations with the Future\, a new videoseries on a range of issues related
  to technology\, disruption and change that will bring together academics\
 , experts and practitioners.\n\nIn this first episode\, “The Nature and 
 Future of Information Confrontation“\, Peter Pomerantsev\, Visiting Seni
 or Fellow at the London School of Economics and Nina Jankowisz\, Disinform
 ation Fellow at the Wilson Center\, address the issue of information confl
 ict and disinformation in times of the Covid-19 pandemic and the Black Liv
 es Matter protests. The talk is moderated by Oscar Jonsson\, Academic Dire
 ctor of the CGC.
DTSTART;TZID=Europe/Berlin:20200701T000000
DTEND;TZID=Europe/Berlin:20200701T000000
LOCATION:María de Molina 6 \, Madrid (Spanien) 
BEGIN:VALARM
ACTION:DISPLAY
DESCRIPTION:The Nature and Future of Information Confrontation
TRIGGER:-PT30M
END:VALARM
END:VEVENT
END:VCALENDAR
