BEGIN:VCALENDAR
VERSION:2.0
PRODID:-//Sabre//Sabre VObject 4.5.8//EN
CALSCALE:GREGORIAN
METHOD:PUBLISH
BEGIN:VEVENT
UID:sabre-vobject-1b0a2769-aa08-477a-901c-f459d38efda1
DTSTAMP:20260422T084121Z
SUMMARY:Handelsdialog Baukultur - Das Gespräch
DESCRIPTION:Wie kommen Handel und Innenstädte aus der Krise? Eine Zwischen
 bilanzDie durch die Corona-Krise bedingten Schließungen mit enormen Ertra
 gseinbußen bei Einzelhandel\, Gastronomie und Kultur stellen unsere Innen
 städte und Stadtteilzentren auf vor massive Probleme. Die damit verbunden
 en Geschäftsaufgaben wirken mittel- bis langfristig nach: auch in einst a
 ttraktive Lagen steigen Leerstände\, bleiben Frequenzen niedrig\, brechen
  wichtige Innenstadtnutzungen weg.Die Bundesregierung hat mit der&nbsp\;In
 nenstadtstrategie des Beirats Innenstädte&nbsp\;und dem Förderprogramm 
 „Zukunftsfähige Innenstädte und Zentren“ die Aufgabenstellungen aufg
 egriffen.Wo stehen wir heute?Wie ist die Situation in den Innenstädten un
 d welche Entwicklungen zeichnen sich ab?Welche Maßnahmen wurden auf den v
 erschiedenen Ebenen eingeleitet?Reicht dies\, um die die gebeutelten Zentr
 en als lebendige\, vielfältige\, identitätsbildende und resiliente Mitte
 lpunkte für alle Menschen zu erhalten?Treffen Sie maßgebliche Entscheide
 r:innen aus der Politik\, den Ministerien den Verbänden und diskutieren S
 ie mit uns die aktuellen Fragen der Handels- und Stadtentwicklung.
DTSTART;TZID=Europe/Berlin:20211019T173000
DTEND;TZID=Europe/Berlin:20211019T210000
LOCATION:Am Weidendamm 1A \, Berlin (Deutschland) 
BEGIN:VALARM
ACTION:DISPLAY
DESCRIPTION:Handelsdialog Baukultur - Das Gespräch
TRIGGER:-PT30M
END:VALARM
END:VEVENT
END:VCALENDAR
