BEGIN:VCALENDAR
VERSION:2.0
PRODID:-//Sabre//Sabre VObject 4.5.8//EN
CALSCALE:GREGORIAN
METHOD:PUBLISH
BEGIN:VEVENT
UID:sabre-vobject-9e570607-ed95-46f4-bf23-17a04293a265
DTSTAMP:20260422T095930Z
SUMMARY:Politische Diskussionsrunde: Baukultur und Bodenpolitik
DESCRIPTION:mit Daniel Föst (MdB FDP)\, Michael Kießling (MdB CDU)\, Care
 n Lay (MdB Die Linke)\, Claudia Tausend (MdB SPD) und Daniela Wagner (MdB 
 Die Grünen)\; Moderation: Michael Fabricius (Die Welt)
DTSTART;TZID=Europe/Berlin:20210519T150000
DTEND;TZID=Europe/Berlin:20210519T160000
LOCATION:Schiffbauergasse 3 \, Potsdam (Deutschland) 
BEGIN:VALARM
ACTION:DISPLAY
DESCRIPTION:Politische Diskussionsrunde: Baukultur und Bodenpolitik
TRIGGER:-PT30M
END:VALARM
END:VEVENT
END:VCALENDAR
