BEGIN:VCALENDAR
VERSION:2.0
PRODID:-//Sabre//Sabre VObject 4.5.8//EN
CALSCALE:GREGORIAN
METHOD:PUBLISH
BEGIN:VEVENT
UID:sabre-vobject-106607c2-5dc8-44da-806a-43ebabc3030f
DTSTAMP:20260421T000631Z
SUMMARY:Ettersburger Gespräch 2021
DESCRIPTION:Vision\, Innovation\, Umbau. Bauen neu denkenDer Ruf nach mehr 
 Visionen und Innovationen im Baugeschehen in Deutschland ist da. Gerade au
 ch die Erneuerung und Weiterentwicklung der Bestände stellen uns vor gro
 ße Herausforderungen mit einem erheblichen Investitionsbedarf. Die verfü
 gbaren Ressourcen\, der demografische und wirtschaftsstrukturelle Wandel\,
  die Klimakrise mit notwendiger Energie- und Mobilitätswende bestimmen de
 n gesellschaftspolitischen Diskurs.Das 13. Ettersburger Gespräch stellte 
 Handlungsansätze\, verschiedene Perspektiven und Strategien sowie gelunge
 ne Projekte vor. Mithilfe übertragbarer Beispiele und guter Ansätze zu r
 essourceneffizientem Bauen wurde gezeigt\, wie ein schnellerer\, lebenszyk
 lus- und gemeinwohlorientierter Umbau gelingt. In einem exklusiven Rahmen 
 wurden unterschiedliche Positionen und Themen diskutiert.Das Ettersburger 
 Gespräch ist eine Veranstaltung der Bundesstiftung Baukultur und ihres F
 ördervereins mit dem bauforumstahl\, der Bundesvereinigung Mittelständis
 cher Bauunternehmen\, dem Hauptverband der Deutschen Bauindustrie\, dem In
 formationsZentrum Beton und dem Zentralverband Deutsches Baugewerbe sowie 
 den VHV Versicherungen.&nbsp\;Mit den Ettersburger Gesprächen zeigen die 
 Bundesstiftung Baukultur und ihre Partner\, dass Qualität und Wirtschaftl
 ichkeit kein Widerspruch und Baukultur ein wichtiger Standortfaktor für D
 eutschland ist.
DTSTART;TZID=Europe/Berlin:20210916T133000
DTEND;TZID=Europe/Berlin:20210916T143000
LOCATION:Am Schloss 1 \, Ettersburg (Deutschland) 
BEGIN:VALARM
ACTION:DISPLAY
DESCRIPTION:Ettersburger Gespräch 2021
TRIGGER:-PT30M
END:VALARM
END:VEVENT
END:VCALENDAR
