BEGIN:VCALENDAR
VERSION:2.0
PRODID:-//Sabre//Sabre VObject 4.5.8//EN
CALSCALE:GREGORIAN
METHOD:PUBLISH
BEGIN:VEVENT
UID:sabre-vobject-32ee796c-9dbc-40aa-9ef4-3d35c49a9913
DTSTAMP:20260422T083502Z
SUMMARY:Studio Baukultur
DESCRIPTION:Das Studio Baukultur tritt in diesem Jahr als interaktives Onli
 ne-Format an die Stelle des Konvents der Baukultur\, der für den 18. und 
 19. Mai 2021 geplant war. Die bereits vorbereiteten Foren und Debatten der
  Basislager werden im Studio Baukultur in kleiner Runde vor Ort durchgefü
 hrt\, live übertragen und für Partner und Freunde der Bundesstiftung Bau
 kultur und für das interessierte Fachpublikum aufgezeichnet.Neben lebhaft
 en Debatten und interessanten Vorträgen vor Ort\, hatten auch die Zuschau
 enden per Chat-Funktion die Möglichkeit mitzudiskutieren oder sich durch 
 die Teilnahme an den Umfragen an der aktuellen baukulturellen Debatte zu b
 eteiligen.Am 18. Mai lag der Schwerpunkt der Vorträge und Diskussionen im
  Forum Bodengold auf dem Thema „Mehr Nutzen durch Baukultur" sowie auf d
 em am Vortag in einer Pressekonferenz vorgestellten „Kodex für Baukultu
 r“\, den die Bundesstiftung gemeinsam mit dem Institut für Corporate Go
 vernance in der deutschen Immobilenwirtschaft ICG erarbeitet hat. Den erst
 en Tag des Studios Baukultur schloss Rasmus Duong-Grunnet von Gehl Archite
 cts aus Kopenhagen mit seinem Vortrag zu „Städte und Öffentliche Räum
 e neu denken” ab.Tag zwei des Studios setzte den Fokus auf die Themensch
 werpunkte „Mit Freude sanieren“\, „Lebendige Innenstädte“\, „Ba
 ukulturelle Bildung“\, „Brandenburg: Stadt und Land“ sowie „Projek
 te erfolgreich umsetzen“. Impulsvorträge und Gesprächsrunden stellten 
 aktuelle Fragen in den Vordergrund und diskutierten diese sehr fachlich un
 d sachlich\, wie aus dem Zuschauer-Chat hervorgehoben wurde. Gerade in der
  Mischung und lockeren Abfolge der Themen lag der Mehrwert einer wachsende
 n baukulturellen Erkenntnis. Die Podiumsdiskussion „Auf dem Weg zu einer
  neuen Umbaukultur“ bildete den Abschluss des neuen Formats Studio Bauku
 ltur und den umfassend beleuchteten und vielfach unterstützen Übergang z
 um Thema Baukulturberichts 2022/23 an die Bundesregierung „Neue Umbaukul
 tur“.
DTSTART;TZID=Europe/Berlin:20210518T110000
DTEND;TZID=Europe/Berlin:20210519T173000
LOCATION:Schiffbauergasse 3 \, Potsdam (Deutschland) 
BEGIN:VALARM
ACTION:DISPLAY
DESCRIPTION:Studio Baukultur
TRIGGER:-PT30M
END:VALARM
END:VEVENT
END:VCALENDAR
