BEGIN:VCALENDAR
VERSION:2.0
PRODID:-//Sabre//Sabre VObject 4.5.8//EN
CALSCALE:GREGORIAN
METHOD:PUBLISH
BEGIN:VEVENT
UID:sabre-vobject-af9b287d-eed5-4b43-9ac9-b9adc0ba777f
DTSTAMP:20260421T063811Z
SUMMARY:Digitaler Salon: Expertise in der Krise
DESCRIPTION:Klimawandel\, Biodiversität und die Covid-19-Pandemie: Wie erm
 öglicht die Digitalisierung einen konstruktiven Austausch zwischen Wissen
 schaft und Gesellschaft?Spätestens seit Klimakrise und Corona-Pandemie gi
 lt wissenschaftliche Expertise als Grundlage für die Bewältigung großer
  gesellschaftlicher Herausforderungen. Daher wird von Wissenschaftler*inne
 n erwartet\, dass sie sich engagieren und in einen Dialog mit der Gesellsc
 haft treten. Dank digitaler Technologien können sie Einblicke in ihre For
 schungsprozesse gewähren und die wissenschaftliche Praxis für alle trans
 parent machen. Über Soziale Medien und Austauschformate mit Journalist*in
 nen können sie dann direkt mit einer breiten Öffentlichkeit kommuniziere
 n.&nbsp\;Doch was passiert\, wenn ihre wissenschaftliche Expertise mit Ver
 schwörungstheorien sowie Wissenschaftsskepsis konkurrieren muss? Wie aufg
 eladen dieses Spannungsfeld ist\, zeichnet unter anderem der Film “Don
 ’t Look Up” nach. Welche neuen Wege braucht es also\, um das Vertrauen
  der Gesellschaft in die Wissenschaft zu stärken? Ist Forschung noch nich
 t partizipativ genug?&nbsp\;Die Moderatorin Katja Weber (radioeins\, Deuts
 chlandfunk Nova) diskutiert mit:Birte Fähnrich\, Kommunikationswissenscha
 ftlerin und Privatdozentin an der FU Berlin. Ihre Forschungsschwerpunkte l
 iegen in den Bereichen digitale Wissenschaftskommunikation\, Public and Po
 litical Engagement und Hochschulkommunikation. Seit November 2021 ist sie 
 zudem im Bundesministerium für Bildung und Forschung tätig und dort für
  Fragen der strategischen Weiterentwicklung von Wissenschaftskommunikation
  im nationalen und internationalen Kontext zuständig.Korinna Hennig\, Red
 akteurin und Moderatorin bei NDR Info. Nach Stationen in den Bereichen Pol
 itik und Kultur\, ist sie dort mittlerweile im Ressort Wissenschaft und Bi
 ldung tätig. Sie ist Host und Redakteurin des Podcasts “Das Coronavirus
  Update”. Außerdem hat sie den Wissenschaftspodcast “Synapsen” konz
 ipiert und betreut in redaktionell.Maximilian Heimstädt\, Forschungsgrupp
 enleiter für “Reorganisation von Wissenspraktiken” am Weizenbaum-Inst
 itut. In seiner Forschung interessiert er sich für „Openness“ als Pra
 ktik und Gestaltungsprinzip von Organisationen. Dabei befasst er sich mit 
 neuen Arbeits- und Organisationsformen der Wissenschaft\, die oftmals unte
 r dem Begriff „Open Science“ zusammengefasst werden. Zuletzt hat er si
 ch auch mit Preprints und ihren Implikationen für Wissenschaftskommunikat
 ion beschäftigt.&nbsp\;Die Einführung übernimmt Benedikt Fecher. Als Fo
 rschungsprogrammleiter für das Forschungsprogramm “Wissen &amp\; Gesell
 schaft”&nbsp\;am HIIG behandelt er Themen im Schnittfeld von Wissenschaf
 t und Digitalisierung sowie Bildung und Digitalisierung. Benedikt ist zude
 m Mitherausgeber des Blogjournals Elephant in the lab\, das sich kritisch 
 mit dem Wissenschaftssystem auseinandersetzt.&nbsp\;Dieser Digitale Salon 
 ist eine Kooperation des Alexander von Humboldt Institut für Internet und
  Gesellschaft mit Elephant in the Lab und dem Deutschen Zentrum für Hochs
 chul- und Wissenschaftsforschung (DZHW). Benedikt Fecher und Clemens Blüm
 el vom DZHW haben den thematischen Schwerpunkt dieser Ausgabe vorgeschlage
 n.
DTSTART;TZID=Europe/Berlin:20220427T183000
DTEND;TZID=Europe/Berlin:20220427T213000
LOCATION:Französische Straße 9 \, Berlin (Deutschland) 
BEGIN:VALARM
ACTION:DISPLAY
DESCRIPTION:Digitaler Salon: Expertise in der Krise
TRIGGER:-PT30M
END:VALARM
END:VEVENT
END:VCALENDAR
