BEGIN:VCALENDAR
VERSION:2.0
PRODID:-//Sabre//Sabre VObject 4.5.8//EN
CALSCALE:GREGORIAN
METHOD:PUBLISH
BEGIN:VEVENT
UID:sabre-vobject-273d152d-ab77-4dc7-93c7-3ca3e6e50af1
DTSTAMP:20260424T161512Z
SUMMARY:Autonome Waffen­systeme: Wenn Maschinen über Le­ben und Tod ent
 ­scheiden
DESCRIPTION:Zu dem Thema “Autonome Waffensysteme„ fand am Mittwoch\, 4.
  November 2020\, ein öffentliches Fachgespräch im&nbsp\;Bundestag statt.
  Im Auftrag des Ausschusses für Bildung\, Forschung und Technikfolgenabsc
 hätzung hat das Büro für Technikfolgenabschätzung beim Deutschen Bunde
 stag (TAB) einen Bericht (19/23672) fertiggestellt\, der technische Aspekt
 e\, ethische Gesichtspunkte und internationale Politikfragen im Kontext vo
 n autonomen Waffensystemen umfassend behandelt. Laut Bericht wird die Erwe
 iterung autonomer Funktionen von Waffensystemen immer wahrscheinlicher. Bi
 slang habe ein menschlicher Kommandeur oder Operator&nbsp\;die Ziele ausge
 wählt\, über den Angriff entschieden und schließlich den Waffeneinsatz 
 freigegeben.Technologische Trends gingen einerseits zu extrem leistungsfä
 higen Großgeräten\, wie etwa autonomen Kampfdrohnen mit Strahlantrieb un
 d Tarnkappenfähigkeiten\, die im Luftkampf über umkämpftem Gebiet einge
 setzt werden können\, und andererseits zu immer kleineren Systemen\, die 
 in großer Zahl kostengünstig hergestellt und im Schwarm eingesetzt werde
 n können. Befürworter dieser Entwicklung würden sich laut Grünwald von
  solchen autonomen Waffensystemen (AWS)&nbsp\;entscheidende militärische 
 sowie unter Umständen auch humanitäre Vorteile versprechen. Kritiker äu
 ßerten Bedenken\, ob es ethisch vertretbar\, politisch verantwortbar und 
 (völker)rechtlich erlaubt sein kann\, die Entscheidung über Leben und To
 d von Menschen an Maschinen zu delegieren.
DTSTART;TZID=Europe/Berlin:20201104T150000
DTEND;TZID=Europe/Berlin:20201104T173000
LOCATION:Platz der Republik 1 \, Berlin (Deutschland) 
BEGIN:VALARM
ACTION:DISPLAY
DESCRIPTION:Autonome Waffen­systeme: Wenn Maschinen über Le­ben und Tod 
 ent­scheiden
TRIGGER:-PT30M
END:VALARM
END:VEVENT
END:VCALENDAR
