BEGIN:VCALENDAR
VERSION:2.0
PRODID:-//Sabre//Sabre VObject 4.5.8//EN
CALSCALE:GREGORIAN
METHOD:PUBLISH
BEGIN:VEVENT
UID:sabre-vobject-3df3ef24-9e1a-4fcd-acdb-9d57a1b08182
DTSTAMP:20260422T175246Z
SUMMARY:Schöne Aussichten – Das Frankfurter Literaturgespräch
DESCRIPTION:Hier sitzt das Publikum mittendrin. In der 48. Ausgabe der „S
 chönen Aussichten“ streiten und schlichten der Redakteur Alf Mentzer (H
 essischer Rundfunk)\, die Kritikerin Mara Delius (Literarische Welt) sowie
  der freie Kritiker Christoph Schröder mit der Gastkritikerin Nele Pollat
 schek. Die Schriftstellerin Nele Pollatschek veröffentlichte 2016 ihren D
 ebütroman „Das Unglück anderer Leute“ (Galiani Berlin)\, der mit dem
  Friedrich-Hölderlin-Förderpreis und dem Grimmelshausen-Förderpreis aus
 gezeichnet wurde. Zuletzt erschien von ihr „Dear Oxbridge. Liebesbrief a
 n England“. Pollatschek hat in Oxford Englische Literatur studiert und 2
 018 promoviert. Seit 2019 präsentiert sie auf hr2-kultur wöchentlich „
 Pollatscheks Kanon: Weltliteratur zum Mitreden“. Dem traditionellen Halt
 barkeitstest wird dieses Mal „Guten Morgen\, du Schöne“ von Maxie Wan
 der unterzogen.Die weiteren Titel des Abends:Tarjei Vesaas: Die Vögel (Gu
 ggolz)Ali Smith: Winter (Luchterhand)Clemens J. Setz: Die Bienen und das U
 nsichtbare (Suhrkamp)
DTSTART;TZID=Europe/Berlin:20201208T193000
DTEND;TZID=Europe/Berlin:20201205T000000
LOCATION:Schöne Aussicht 2 \, Frankfurt am Main (Deutschland) 
BEGIN:VALARM
ACTION:DISPLAY
DESCRIPTION:Schöne Aussichten – Das Frankfurter Literaturgespräch
TRIGGER:-PT30M
END:VALARM
END:VEVENT
END:VCALENDAR
