BEGIN:VCALENDAR
VERSION:2.0
PRODID:-//Sabre//Sabre VObject 4.5.8//EN
CALSCALE:GREGORIAN
METHOD:PUBLISH
BEGIN:VEVENT
UID:sabre-vobject-b5f1f0d5-9ae1-4859-bfe9-94023b9df4e6
DTSTAMP:20260424T105521Z
SUMMARY:Codename "X\, Y & Z": Wie die Enigma im 2. Weltkrieg geknackt wurde
DESCRIPTION:Unter der Tarnbezeichnung "X\, Y & Z" haben französische\, bri
 tische und polnische Geheimdienste während des 2. Weltkriegs zusammengear
 beitet\, um die deutsche Enigma-Maschine zu entschlüsseln. Bevor sie in E
 ngland geknackt werden konnte\, arbeiteten Code-Brecher im besetzten Frank
 reich und setzten ihre Arbeit für den britischen Geheimdienst auch im Kal
 ten Krieg fort.\n\nVortrag in englischer Sprache mit Simultandolmetscher.\
 n\nVortragnder: Sir John Dermot Turing\, Autor\, Historiker und Anwalt\, S
 t Albans/Großbritannien (Dermot Turing ist der Neffe des berühmten engli
 schen Mathematikers Alan Turing)\n\nEintritt frei
DTSTART;TZID=Europe/Berlin:20190625T190000
DTEND;TZID=Europe/Berlin:20190625T203000
LOCATION:Fürstenallee 7 \, Paderborn (Deutschland) 
BEGIN:VALARM
ACTION:DISPLAY
DESCRIPTION:Codename "X\, Y & Z": Wie die Enigma im 2. Weltkrieg geknackt w
 urde
TRIGGER:-PT30M
END:VALARM
END:VEVENT
END:VCALENDAR
