BEGIN:VCALENDAR
VERSION:2.0
PRODID:-//Sabre//Sabre VObject 4.5.8//EN
CALSCALE:GREGORIAN
METHOD:PUBLISH
BEGIN:VEVENT
UID:sabre-vobject-ffb418a1-893e-4931-9037-91fb37f35257
DTSTAMP:20260422T095700Z
SUMMARY:Sustainable Smart Industry – Wie können wir Wertschöpfung nachh
 altig betreiben?
DESCRIPTION:Die Idee einer Sustainable Smart Industry verknüpft die große
 n Transformationsthemen Digitalisierung und Nachhaltigkeit. Dadurch sollen
  Wege aufgezeigt werden\, wie die Fabriken der Zukunft so gestaltet werden
  können\, dass durch Digitalisierung\, Vernetzung und lernende Systeme\, 
 Beiträge für nachhaltigere Produktionsverfahren geschaffen werden könne
 n. Aber wie kann aus dieser Vision Realität werden? Wie weit ist Deutschl
 and bereits beim Thema Sustainable Smart Industry? Welche Chancen und Risi
 ken könnten sich durch die Verknüpfung von Digitalisierung und Nachhalti
 gkeit ergeben? Und was bedeutet diese Transformation für Menschen\, Unter
 nehmen und die Gesellschaft? In Kooperation mit der Deutschen Akademie der
  Technikwissenschaften** (kurz acatech) veranstaltet das CMTS eine Podiums
 diskussion zum Thema Sustainable Smart Industry.
DTSTART;TZID=Europe/Berlin:20190507T180000
DTEND;TZID=Europe/Berlin:20190507T193000
LOCATION:Karl-Grillenberger-Straße 3 \, Erlangen (Deutschland) 
BEGIN:VALARM
ACTION:DISPLAY
DESCRIPTION:Sustainable Smart Industry – Wie können wir Wertschöpfung n
 achhaltig betreiben?
TRIGGER:-PT30M
END:VALARM
END:VEVENT
END:VCALENDAR
