BEGIN:VCALENDAR
VERSION:2.0
PRODID:-//Sabre//Sabre VObject 4.5.8//EN
CALSCALE:GREGORIAN
METHOD:PUBLISH
BEGIN:VEVENT
UID:sabre-vobject-c5c08a73-6df9-4875-afc5-77fe5ccae84e
DTSTAMP:20260420T094711Z
SUMMARY:„Ihr habt keinen Plan\, darum machen wir einen!“
DESCRIPTION:10 Bedingungen für die Rettung unserer Zukunft\nEine angeblich
  unpolitische Generation erhebt sich und stellt konkrete Forderungen an di
 e Politik\, damit ein nachhaltiges Leben und ein neuer Vertrag der Generat
 ionen gelingen. Eine Vision für alle? Eine Aufgabe für die Politik?\n\nM
 it:\nFranziska Heinisch\, Jurastudentin\, Jugendrat der Generationenstiftu
 ng\, Berlin\nSarah Hadj Ammar\, Studentin der Biomedizin\, Plant-for-the-P
 lanet\, Global Board (Jugendweltvorstand)\, Würzburg\nDaniel Al-Kayal\, P
 olitikwissenschaftsstudent\, SPD\, Heidelberg\nNikolas Löbel\, Bundestags
 abgeordneter und Stadtrat in Mannheim\, M. Sc. Wirtschaftswissenschaften/B
 WL\nDr. Lukas Köhler\, Philosoph\, Bundestagsabgeordneter in München\n\n
 Moderation:\nSören Sgries\, RNZ-Politikredaktion\n\nUnterstützt durch di
 e Heidelberger Partnerschaft für Demokratie\, gefördert durch das Progra
 mm Demokratie leben! des Bundesministeriums für Familien\, Senioren\, Fra
 uen und Jugend.
DTSTART;TZID=Europe/Berlin:20200428T200000
DTEND;TZID=Europe/Berlin:20200428T000000
LOCATION:Sofienstraße 12 \, Heidelberg (Deutschland) 
BEGIN:VALARM
ACTION:DISPLAY
DESCRIPTION:„Ihr habt keinen Plan\, darum machen wir einen!“
TRIGGER:-PT30M
END:VALARM
END:VEVENT
END:VCALENDAR
