BEGIN:VCALENDAR
VERSION:2.0
PRODID:-//Sabre//Sabre VObject 4.5.8//EN
CALSCALE:GREGORIAN
METHOD:PUBLISH
BEGIN:VEVENT
UID:sabre-vobject-0edceeb7-49c9-45d0-badf-43273896dd83
DTSTAMP:20260420T082554Z
SUMMARY:Diskriminierungsfreiheit und Daten im Fokus
DESCRIPTION:Die Mitglieder der Enquete-Kommission „Künstliche Intelligen
 z – Gesellschaftliche Verantwortung und wirtschaftliche\, soziale und ö
 kologische Potenziale“ haben sich am Montag\, 3. Juni 2019\, unter Leitu
 ng des stellvertretenden Vorsitzenden Stefan Sauer** (CDU/CSU) schwerpunkt
 mäßig mit dem Thema Daten befasst. Vier Sachverständige trugen dazu in 
 öffentlicher Sitzung im Rahmen eines Fachgespräches vor. Zuvor hatte die
  Philosophin **Prof. Dr. Judith Simon von der Universität Hamburg in der 
 Sitzung öffentlich zu Fragen von Gerechtigkeit und Diskriminierungsfreihe
 it referiert. Die den Vorträgen jeweils folgende Fragerunde fand in nicht
 öffentlicher Sitzung statt.
DTSTART;TZID=Europe/Berlin:20190603T133000
DTEND;TZID=Europe/Berlin:20190603T150000
LOCATION:Platz der Republik 1 \, Berlin (Deutschland) 
BEGIN:VALARM
ACTION:DISPLAY
DESCRIPTION:Diskriminierungsfreiheit und Daten im Fokus
TRIGGER:-PT30M
END:VALARM
END:VEVENT
END:VCALENDAR
