BEGIN:VCALENDAR
VERSION:2.0
PRODID:-//Sabre//Sabre VObject 4.5.8//EN
CALSCALE:GREGORIAN
METHOD:PUBLISH
BEGIN:VEVENT
UID:sabre-vobject-9072c647-346e-4cf9-9986-364c1584666d
DTSTAMP:20260422T113106Z
SUMMARY:Mobilität in Deutschland: Präsentation der Kennzahlen zum Rad- un
 d Fußverkehr
DESCRIPTION:Jeden Tag legen wir gut 3\,2 Milliarden Kilometer zurück\, pro
  Person sind das täglich 39 Kilometer. Die Ergebnisse der Studie „Mobil
 ität in Deutschland 2017“ des BMVI zeichnen ein vielschichtiges Bild\, 
 wie viel\, warum und mit welchen Verkehrsmitteln die Deutschen unterwegs s
 ind. Über ein Jahr verteilt berichteten Menschen aus mehr als 150.000 Hau
 shalten über ihre alltägliche Mobilität: die Bedeutung des Fahrrads hat
  dabei deutlich zugenommen\; gleichzeitig hat sich die von Fußgängern zu
 rückgelegte Tagesstrecke in nahezu allen Altersklassen erhöht.\n\nAls we
 ltweit größte empirische Untersuchung zur privaten Mobilität sind die d
 arin gewonnen Erkenntnisse für die Verkehrsplanung von Bedeutung. Dr. Cla
 udia Nobis\, Gruppenleiterin im Projekt\, wird uns erläuternd durch die E
 rgebnisse der Sparte „aktive Mobilität“ führen\, die zum Abruf berei
 tstehen.\n\nReferentin: Dr. Claudia Nobis\, Deutsches Zentrum für Luft- u
 nd Raumfahrt
DTSTART;TZID=Europe/Berlin:20200128T140000
DTEND;TZID=Europe/Berlin:20200128T150000
LOCATION:Zimmerstraße 13-15 \, Berlin (Deutschland) 
BEGIN:VALARM
ACTION:DISPLAY
DESCRIPTION:Mobilität in Deutschland: Präsentation der Kennzahlen zum Rad
 - und Fußverkehr
TRIGGER:-PT30M
END:VALARM
END:VEVENT
END:VCALENDAR
