BEGIN:VCALENDAR
VERSION:2.0
PRODID:-//Sabre//Sabre VObject 4.5.8//EN
CALSCALE:GREGORIAN
METHOD:PUBLISH
BEGIN:VEVENT
UID:sabre-vobject-0b0cca68-4368-4a47-a508-926efe0be2d1
DTSTAMP:20260424T093720Z
SUMMARY:Das regionale Bikesharing-System „SprottenFlotte“
DESCRIPTION:Mit „Kommunen im Fokus“ kommen wir dem oft geäußerten Wun
 sch nach\, gelungene Konzepte der Radverkehrsförderung sowie anschauliche
  Praxisbeispiele aus Kommunen vorzustellen. In diesem Webinar begrüßen w
 ir den Projektkoordinator der „SprottenFlotte“ der KielRegion: Philipp
  Walter. Er wird uns das kommunale Bikesharing-System als Baustein des Mas
 terplans Mobilität der KielRegion für nachhaltige und klimafreundliche M
 obilität vorstellen.\n\nDas Projekt ist im Juli 2019 gestartet und derzei
 tig in der Pilotphase. Die SprottenFlotte besteht aus 300 konventionellen 
 Rädern\, die an über 40 Stationen in Kiel und den Umlandgemeinden ausgel
 iehen werden können. Die ersten 30 Minuten einer Fahrt sind derzeit koste
 nfrei\, um einen Anreiz für emissionsfreie Nahmobilität zu setzen. Ab 20
 21 gibt es die Möglichkeit\, auch Lastenräder und Pedelecs in das System
  zu integrieren. Geplant ist außerdem\, die SprottenFlotte auf die Städt
 e Eckernförde\, Plön\, Preetz und den Raum Rendsburg auszuweiten. Geför
 dert wird das Projekt bis Ende 2020 über das Förderprogramm „Digitalis
 ierung kommunaler Verkehrssysteme“ des BMVI. Bikesharing gehört dort zu
 m Cluster zur Stärkung des Radverkehrs durch digitale Produkte oder Diens
 tleistungen.\n\nReferent: Philipp Walter\, SprottenFlotte\, KielRegion
DTSTART;TZID=Europe/Berlin:20200428T140000
DTEND;TZID=Europe/Berlin:20200428T150000
LOCATION:Zimmerstraße 13-15 \, Berlin (Deutschland) 
BEGIN:VALARM
ACTION:DISPLAY
DESCRIPTION:Das regionale Bikesharing-System „SprottenFlotte“
TRIGGER:-PT30M
END:VALARM
END:VEVENT
END:VCALENDAR
