BEGIN:VCALENDAR
VERSION:2.0
PRODID:-//Sabre//Sabre VObject 4.5.8//EN
CALSCALE:GREGORIAN
METHOD:PUBLISH
BEGIN:VEVENT
UID:sabre-vobject-4dad8829-6088-4b6d-80b7-2cb5c4df7abd
DTSTAMP:20260422T111742Z
SUMMARY:Out of Office. Wenn Roboter und KI für uns arbeiten
DESCRIPTION:Die Digitalisierung setzt die industrielle Revolution fort durc
 h die Objektivierung von Wissen\, Erfahrungen und Kenntnissen. Die elektro
 nischen Technologien stehen in einer langen kultur- und zivilisationsgesch
 ichtlichen Tradition der Menschen\, ihr Bewusstsein auszudrücken und zu v
 ergegenständlichen. Viele dieser immateriellen Güter werden vor allem du
 rch personenbezogene Dienstleistungen gepflegt\, entwickelt und weitergege
 ben. Diese Dienstleistungen gewähren Menschen den Zugang zu den immaterie
 llen Gütern\, die sie für ihr selbstbestimmtes Leben benötigen. Ein bes
 onderes Merkmal dieser personenbezogenen Dienstleistungen ist die unmittel
 bare Beziehung von Konsumenten und Produzenten. Die digitalen Medien als z
 unehmend global vernetzte und entpersonalisierte Wissensspeicher werden je
 doch dazu beitragen\, viele der personenbezogenen\, wissens- und letztlich
  auch vertrauensbasierten Dienstleistungen zu verändern\, wenn nicht gar 
 zu beseitigen\, die das innerste Wesen heutiger Dienstleistungs- und Wisse
 nsgesellschaften ausmachen. \n\nVortrag von Mag. Mario Bäumer (Museum der
  Arbeit Hamburg) im Rahmen der Querblicke
DTSTART;TZID=Europe/Berlin:20191209T181500
DTEND;TZID=Europe/Berlin:20191209T194500
LOCATION:Überseeallee 16 \, Hamburg (Deutschland) 
BEGIN:VALARM
ACTION:DISPLAY
DESCRIPTION:Out of Office. Wenn Roboter und KI für uns arbeiten
TRIGGER:-PT30M
END:VALARM
END:VEVENT
END:VCALENDAR
