BEGIN:VCALENDAR
VERSION:2.0
PRODID:-//Sabre//Sabre VObject 4.5.8//EN
CALSCALE:GREGORIAN
METHOD:PUBLISH
BEGIN:VEVENT
UID:sabre-vobject-ba5aa996-915c-4ab7-8653-5beb5f583ada
DTSTAMP:20260422T174808Z
SUMMARY:Wenn die Mobilität im Stau steckt...
DESCRIPTION:Mobilität braucht die Gesellschaft wie die Luft zum Atmen. Doc
 h geeignete Mobilitätslösungen fallen nicht vom Himmel – trotz technis
 chen Fortschritts und zunehmender Vernetzung. Welche Strukturen baut man z
 um Beispiel in einer Stadt wie München auf\, die immer stärker wächst u
 nd deren Verkehrssysteme am Rand der Belastbarkeit stehen? Und welche Aspe
 kte spielen dabei eine Rolle?\nDie Tagung nimmt konkrete planerische und t
 echnische Problemfelder in den Blick\, um auf dieser Grundlage Raum für w
 eitere Perspektiven zu schaffen. Insbesondere sollen die Auswirkungen von 
 Mobilitätskonzepten auf die Lebenswelt der Menschen erörtert werden.\nEs
  würde uns freuen\, Sie zu unseren Diskussionen in Tutzing begrüßen zu 
 dürfen.\n\nProf. Dr. Ursula Münch\nDirektorin der Akademie für Politisc
 he Bildung\nProf. Dr.-Ing. habil. Norbert Gebbeken\nPräsident der Bayeris
 chen Ingenieurekammer-Bau\nDr. Gero Kellermann\nAkademie für Politische B
 ildung
DTSTART;TZID=Europe/Berlin:20190524T140000
DTEND;TZID=Europe/Berlin:20190525T153000
LOCATION:Buchensee 1 \, Tutzing (Deutschland) 
BEGIN:VALARM
ACTION:DISPLAY
DESCRIPTION:Wenn die Mobilität im Stau steckt...
TRIGGER:-PT30M
END:VALARM
END:VEVENT
END:VCALENDAR
