BEGIN:VCALENDAR
VERSION:2.0
PRODID:-//Sabre//Sabre VObject 4.5.8//EN
CALSCALE:GREGORIAN
METHOD:PUBLISH
BEGIN:VEVENT
UID:sabre-vobject-b89d18f9-a9ab-46ec-80fe-4fa8adc7f309
DTSTAMP:20260422T174920Z
SUMMARY:Orientierung\, Beeinflussung und Manipulation durch Medien
DESCRIPTION:Prävention in der Schule\nDigitale Medien sind im Alltag von K
 indern und Jugendlichen allgegenwärtig. Häufig sind sie jedoch mit den I
 nhalten und ihrer Verifizierung überfordert. Die '(un-)heimlichen Miterzi
 eher' sind unaufhaltsam auf dem Vormarsch. Daher kommt einer medienpädago
 gischen und die Medienkompetenz fördernden Arbeit in den Schulen eine ste
 ts wachsende Bedeutung zu und zwar fächerübergreifend.\n\nLehrkräftefor
 tbildung in Kooperation mit der ALP Dillingen\nLeitung: Michael Schröder 
 / Christa Gmeiner
DTSTART;TZID=Europe/Berlin:20200302T000000
DTEND;TZID=Europe/Berlin:20200306T000000
LOCATION:Buchensee 1 \, Tutzing (Deutschland) 
BEGIN:VALARM
ACTION:DISPLAY
DESCRIPTION:Orientierung\, Beeinflussung und Manipulation durch Medien
TRIGGER:-PT30M
END:VALARM
END:VEVENT
END:VCALENDAR
