BEGIN:VCALENDAR
VERSION:2.0
PRODID:-//Sabre//Sabre VObject 4.5.8//EN
CALSCALE:GREGORIAN
METHOD:PUBLISH
BEGIN:VEVENT
UID:sabre-vobject-65884b1e-eab1-4263-b947-bc02046fc1cf
DTSTAMP:20260422T234023Z
SUMMARY:Pandemien und Klimawandel: Wie ernähren wir die Welt?
DESCRIPTION:Das Global Forum for Food and Agriculture (GFFA) ist eine inter
 nationale Konferenz zu agrar- und ernährungspolitischen Fragen. Seit zwö
 lf Jahren findet sie zu Beginn der Internationalen Grünen Woche in Berlin
  statt.Beim GFFA diskutieren rund 2000 internationale Besucherinnen und Be
 sucher aus Politik\, Wirtschaft\, Wissenschaft und Zivilgesellschaft zu ei
 nem&nbsp\;Schwerpunktthema.Am letzten Konferenztag findet zudem die weltwe
 it größte informelle Agrarministerkonferenz statt. Sie bildet den Höhep
 unkt des GFFA.Rund 70 Agrarministerinnen und -minister aus aller Welt sowi
 e hochrangige Vertreterinnen und Vertreter von mehr als 10 internationalen
  Organisationen beschließen ein gemeinsames politisches Kommuniqué zum j
 eweiligen Thema des GFFA.Hochrangige Gäste\, wie&nbsp\;Prinz Charles\,&nb
 sp\;Ban Ki-moon\,&nbsp\;Angela Merkel&nbsp\;und&nbsp\;Josefa Sacko&nbsp\;h
 aben das GFFA in den vergangenen Jahren mit Impulsvorträgen bereichert.14
 6 Staaten haben bereits mit Delegationen am GFFA teilgenommen.
DTSTART;TZID=Europe/Berlin:20210118T110000
DTEND;TZID=Europe/Berlin:20210122T160000
LOCATION:Messedamm 26 \, Berlin (Deutschland) 
BEGIN:VALARM
ACTION:DISPLAY
DESCRIPTION:Pandemien und Klimawandel: Wie ernähren wir die Welt?
TRIGGER:-PT30M
END:VALARM
END:VEVENT
END:VCALENDAR
