BEGIN:VCALENDAR
VERSION:2.0
PRODID:-//Sabre//Sabre VObject 4.5.8//EN
CALSCALE:GREGORIAN
METHOD:PUBLISH
BEGIN:VEVENT
UID:sabre-vobject-61205d1a-8439-44d5-9191-6c8fc984a60e
DTSTAMP:20260424T114144Z
SUMMARY:Digitalwirtschaft besteuern
DESCRIPTION:Prof. Dr. Johannes Becker\, Direktor des Instituts für Finanzw
 issenschaft an der Universität Münster\, hielt am Montag\, den 21. Janua
 r 2019\, einen Vortrag zum Thema „Digitalwirtschaft besteuern“. Daten 
 sind der Rohstoff des 21. Jahrhunderts. Bundeskanzlerin Merkel hat im Mai 
 2018 die Wissenschaft aufgefordert\, Konzepte vorzulegen\, wie Daten als p
 roduktiver Input und Quelle von Einkommen im Steuersystem berücksichtigt 
 werden können. Es könne nicht sein\, dass nur ein paar große Unternehme
 n von der Nutzung persönlicher Daten profitieren. Die EU-Kommission hat u
 nterdessen vorgeschlagen\, eine Digitalsteuer auf den Umsatz bestimmter In
 ternet-Unternehmen zu erheben. Der Vortrag diskutierte die Herausforderung
 en der Besteuerung digitaler Unternehmen und mögliche Reformkonzepte.
DTSTART;TZID=Europe/Berlin:20190121T180000
DTEND;TZID=Europe/Berlin:20190121T193000
LOCATION:Poschingerstr. 5 \, München (Deutschland) 
BEGIN:VALARM
ACTION:DISPLAY
DESCRIPTION:Digitalwirtschaft besteuern
TRIGGER:-PT30M
END:VALARM
END:VEVENT
END:VCALENDAR
