BEGIN:VCALENDAR
VERSION:2.0
PRODID:-//Sabre//Sabre VObject 4.5.8//EN
CALSCALE:GREGORIAN
METHOD:PUBLISH
BEGIN:VEVENT
UID:sabre-vobject-79b4ff47-a876-43b9-b507-d4863250c823
DTSTAMP:20260420T121218Z
SUMMARY:Wissen schaffen als Teil gesellschaftlicher Entwicklung
DESCRIPTION:Eine Große Transformation zur Nachhaltigkeit klingt groß und 
 ist es auch. Historische Analogien zur Tiefe und Breite des Umbaus von Ges
 ellschaft\, Wirtschaft und auch Kultur sind die Neolithische und die indus
 trielle Revolution. Doch wenn wir aus dem großen Bild in die reale Praxis
  schauen\, ist jede Große Transformation die Ansammlung vieler\, vieler k
 leiner Schritte und Veränderungen\, die Menschen nach ihrem Wissen\, Inte
 resse und Gewissen vornehmen. Wissen schaffen hat also immer eine zentrale
  Rolle für gesellschaftliche Veränderungen gespielt und tut es auch heut
 e. Und doch braucht es lange\, bis neue Ideen und Erkenntnisse in gesellsc
 haftliche Strukturen eingepflegt sind\; die Klimapolitik ist ein Paradebei
 spiel dafür. Wo liegen also vielversprechende Hebel und was heißt das f
 ür unser Verständnis von Wissenschaft in transformativen Zeiten. Die The
 matik wird am Beispiel des WBGU\, der als Schnittstelle zwischen Wissensch
 aft und Politik fungiert\, veranschaulicht.\n\nProf. Dr. Maja Göpel (Gene
 ralsekretärin des Wissenschaftlichen Beirats der Bundesregierung Globale 
 Umweltveränderungen WBGU)
DTSTART;TZID=Europe/Berlin:20191028T160000
DTEND;TZID=Europe/Berlin:20191028T180000
LOCATION:Straße des 17. Juni 152 \, Berlin (Deutschland) 
BEGIN:VALARM
ACTION:DISPLAY
DESCRIPTION:Wissen schaffen als Teil gesellschaftlicher Entwicklung
TRIGGER:-PT30M
END:VALARM
END:VEVENT
END:VCALENDAR
