BEGIN:VCALENDAR
VERSION:2.0
PRODID:-//Sabre//Sabre VObject 4.5.8//EN
CALSCALE:GREGORIAN
METHOD:PUBLISH
BEGIN:VEVENT
UID:sabre-vobject-6a881763-99cd-4df8-aec7-db3724781bc2
DTSTAMP:20260424T083514Z
SUMMARY:Macht der Informationsintermediäre – Ohnmacht des Rechts?
DESCRIPTION:Mit Professor Wolfgang Hoffmann-Riem ist es dem FiF erneut gelu
 ngen\, einen über seine Fachgrenzen hinaus bekannten Wissenschaftler für
  die FiF Lecture zu gewinnen. Herr Professor Hoffmann-Riem war von 1999-20
 08 Richter am Bundesverfassungsgericht\, danach Fellow am Wissenschaftskol
 leg zu Berlin. Seit 2012 ist der Professor für Recht und Innovation an de
 r Bucerius Law School in Hamburg. Er gehörte zu den Initiatoren der „Ch
 arta der Digitalen Grundrechte der Europäischen Union“ 2016.Als Experte
  für Informations- und Medienrecht wird er auch in seiner FiF Lecture Her
 ausforderungen des Rechtsstaats durch die Digitalisierung thematisieren.Al
 s Experte für Informations- und Medienrecht wird er auch in seiner FiF Le
 cture Herausforderungen des Rechtsstaats durch die Digitalisierung\, nicht
  zuletzt durch die global tätigen\, als Oligopole handelnden Internetkonz
 erne wie Facebook und Google thematisieren. Sie beeinflussen die Zugänge 
 zu und Inhalte von Informationen und verfügen über große wirtschaftlich
 e und politische Macht. Sie steuern das Verhalten der Nutzer ihrer Dienste
  in vielerlei Hinsicht und prägen die Art der öffentlichen Kommunikation
 . Sie handeln nach ihren eigenen Regeln und unterliegen dabei nur begrenzt
  hoheitlich gesetztem Recht. Woran liegt das? Welche Möglichkeiten gibt e
 s\, die Freiheitlichkeit und Pluralität der Kommunikation und die Autonom
 ie der Nutzer mit Hilfe des nationalen und transnationalen Rechts zu gewä
 hrleisten?Wo: Wilhelm-Köhler-Saal (S1|03 Raum 283
DTSTART;TZID=Europe/Berlin:20210413T170000
DTEND;TZID=Europe/Berlin:20210413T200000
LOCATION:Hochschulstraße 1 \, Darmstadt (Deutschland) 
BEGIN:VALARM
ACTION:DISPLAY
DESCRIPTION:Macht der Informationsintermediäre – Ohnmacht des Rechts?
TRIGGER:-PT30M
END:VALARM
END:VEVENT
END:VCALENDAR
