BEGIN:VCALENDAR
VERSION:2.0
PRODID:-//Sabre//Sabre VObject 4.5.8//EN
CALSCALE:GREGORIAN
METHOD:PUBLISH
BEGIN:VEVENT
UID:sabre-vobject-dff9b60a-a6e8-46e8-96cc-545abe1f5861
DTSTAMP:20260422T044647Z
SUMMARY:Digitaler Salon: In dubio pro Data
DESCRIPTION:Online-Daten sind für ErmittlerInnen heute wie Fingerabdrücke
 . Chatnachrichten und Daten in der Cloud helfen\, VerbrecherInnen zu über
 führen. Wird nun alles sicherer oder versteckt sich hier Raum für neue K
 riminalität?Früher führte ein vergessener Zigarettenstummel ErmittlerIn
 nen zum Ziel\, heute sind es oft Chatverläufe\, Handy-Metadaten\, Emails 
 und Social Media-Posts. Was bedeutet es\, dass unsere Online-Daten von Erm
 ittlerInnen wie Fingerabdrücke genutzt werden können? Inwieweit wird dad
 urch unsere individuelle Freiheit eingeschränkt? Leben wir dadurch sicher
 er oder eröffnet Daten-Forensik neuen Raum für Kriminalität? Digitale S
 trafverfolgung geht oft über nationale Grenzen hinweg. Welche bürokratis
 chen und politischen Hürden stehen den ErmittlerInnen im Weg und welche i
 nternationalen Abkommen gibt es? Und ganz aktuell: Wie steht es um die anv
 isierte E-Evidence-Verordnung der EU – Segen oder Fluch?Die Moderatorin 
 Katja Weber (radioeins\, Deutschlandfunk Nova) diskutierte mit:Klaus Landf
 eld\,&nbsp\;Stellvertretender Vorsitzender eco Internetverband e.V.Elisabe
 th Niekrenz\,&nbsp\;politische Referentin\, Digitale GesellschaftHubert Sc
 huster\, Leiter LKA 71 – Forensische Informations- und Kommunikationstec
 hnikDie Einführung in das Thema übernahm Amadeus Peters\, Fellow „Date
 n\, Akteure\, Infrastrukturen“ am HIIG.
DTSTART;TZID=Europe/Berlin:20190731T190000
DTEND:
LOCATION:Französische Straße 9 \, Berlin (Deutschland) 
BEGIN:VALARM
ACTION:DISPLAY
DESCRIPTION:Digitaler Salon: In dubio pro Data
TRIGGER:-PT30M
END:VALARM
END:VEVENT
END:VCALENDAR
