BEGIN:VCALENDAR
VERSION:2.0
PRODID:-//Sabre//Sabre VObject 4.5.8//EN
CALSCALE:GREGORIAN
METHOD:PUBLISH
BEGIN:VEVENT
UID:sabre-vobject-62aba717-681e-4de2-bd7a-4d672fa7f696
DTSTAMP:20260422T151528Z
SUMMARY:Mobilität im Wandel: Mobilität für alle?!
DESCRIPTION:Wodurch sind vorhandene Verkehrsstrukturen geprägt? Welche Unt
 erschiede gibt es im Verkehrshalten zwischen Mann und Frau und welche Anfo
 rderungen an eine gendergerechte Verkehrsplanung entstehen daraus? Gestalt
 en\, planen und entscheiden Frauen anders als Männer? Kann eine weibliche
  Sichtweise Planungen bereichern?Diesen und weiteren Fragen wurde im Rahme
 n der Vortrags- und Diskussionsreihe „Mobilität im Wandel“ von IMPACT
  RheinMain am gestrigen Mittwoch\, 9.12.2020\, unter dem Motto „Mobilit
 ät für alle?! Die Verkehrswelt aus Gender-Perspektive“ nachgegangen. I
 m Mittelpunkt der Veranstaltung stand das Themenfeld „Frauen und Mobilit
 ät“ und die weibliche Sichtweise auf die Verkehrsplanung. Dr. Volker Bl
 ees\, Professor für Verkehrswesen an der Hochschule RheinMain\, begrüßt
 e die mehr als 130 interessierten Teilnehmerinnen und Teilnehmer der Onlin
 e-Veranstaltung sowie die beiden Referentinnen.
DTSTART;TZID=Europe/Berlin:20201209T000000
DTEND:
LOCATION:Am Brückweg 26 \, Rüsselsheim (Deutschland) 
BEGIN:VALARM
ACTION:DISPLAY
DESCRIPTION:Mobilität im Wandel: Mobilität für alle?!
TRIGGER:-PT30M
END:VALARM
END:VEVENT
END:VCALENDAR
