BEGIN:VCALENDAR
VERSION:2.0
PRODID:-//Sabre//Sabre VObject 4.5.8//EN
CALSCALE:GREGORIAN
METHOD:PUBLISH
BEGIN:VEVENT
UID:sabre-vobject-d42be2fe-18d8-49a0-a523-4cdd712a8b46
DTSTAMP:20260425T122556Z
SUMMARY:Wohlergehen statt Wachstum
DESCRIPTION:Vortrag und Diskussion: Wohlergehen statt Wachstum. Warum unser
 e Vorstellung von Entwicklung komplett neu gedacht werden muss. \n\nVortra
 gende: Katherine Trebeck (Wellbeing Economies Alliance\, Glasgow)
DTSTART;TZID=Europe/Berlin:20190813T190000
DTEND;TZID=Europe/Berlin:20190813T000000
LOCATION: \,  (Deutschland) 
BEGIN:VALARM
ACTION:DISPLAY
DESCRIPTION:Wohlergehen statt Wachstum
TRIGGER:-PT30M
END:VALARM
END:VEVENT
END:VCALENDAR
