BEGIN:VCALENDAR
VERSION:2.0
PRODID:-//Sabre//Sabre VObject 4.5.8//EN
CALSCALE:GREGORIAN
METHOD:PUBLISH
BEGIN:VEVENT
UID:sabre-vobject-563ac056-04b1-47ff-9773-748d97cc0e77
DTSTAMP:20260422T123032Z
SUMMARY:Wie kann Energie- und Umweltpolitik Reboundeffekte reduzieren?
DESCRIPTION:Die Veranstaltung findet im Projekt „ReCap: Analyse der Rolle
  der Energie- und Ressourceneffizienz bei der Förderung des Wirtschaftswa
 chstums und Entwicklung politischer Instrumente zur Verringerung der makro
 ökonomischen Rebound-Effekte“ statt\, das vom Bundesministerium für Bi
 ldung und Forschung im Förderschwerpunkt Sozial-Ökologische Forschung ge
 fördert wird.Viele klima- und energiepolitische Szenarien gehen davon aus
 \, dass der Verbrauch an Energie und Ressourcen deutlich gesenkt werden ka
 nn. Der Schlüssel: Effizienz. In der Tat wurden in den letzten 40 Jahren 
 erhebliche Effizienzfortschritte erzielt – allerdings ist der absolute V
 erbrauch in Deutschland nicht entsprechendem Maße gesunken. Ein wesentlic
 her Grund: Reboundeffekte. Sie treten auf unterschiedlichen Ebenen auf und
  werden durch eine Reihe von Mechanismen ausgelöst. Unsere aktuelle Rebou
 nd-Forschungschlägt eine neue Typologie zur systematischen Klassifizierun
 g von Reboundeffekten vor\,quantifiziert und vergleicht Reboundeffekte in 
 verschiedenen Sektoren des verarbeitenden Gewerbes\,modelliert die potenzi
 ellen Wirkungen von Maßnahmenpaketen\, um Rebounds einzudämmen\, undanal
 ysiert die politische Akzeptanz dieser Maßnahmenpakete.Auf einer Online-F
 achkonferenz möchten wir Neues aus der Reboundforschung sowie Empfehlunge
 n für einen geeigneten Policy-Mix zur Begrenzung von Reboundeffekten vors
 tellen und mit Wissenschaftler/innen sowie Akteur/innen aus Politik und Ve
 rwaltung\, Zivilgesellschaft und Wirtschaft diskutieren. Die Online Fachko
 nferenz wird durch einen Keynote-Vortrag von Prof. Steve Sorrell (Universi
 ty of Sussex) und einen Vortrag zu den zentralen Ergebnissen des Projektes
  ReCap eröffnet. Diese werden in parallelen Workshops mit Kommentator/inn
 en und den Teilnehmer/innen erörtert und unsere Politikempfehlungen in ei
 ner Diskussionsrunde mit Vertreter/innen aus Verwaltung\, Wirtschaft und U
 mweltverbänden diskutiert und eingeordnet.
DTSTART;TZID=Europe/Berlin:20210223T090000
DTEND;TZID=Europe/Berlin:20210223T130000
LOCATION:Potsdamer Str. 105 \, Berlin (Deutschland) 
BEGIN:VALARM
ACTION:DISPLAY
DESCRIPTION:Wie kann Energie- und Umweltpolitik Reboundeffekte reduzieren?
TRIGGER:-PT30M
END:VALARM
END:VEVENT
END:VCALENDAR
