BEGIN:VCALENDAR
VERSION:2.0
PRODID:-//Sabre//Sabre VObject 4.5.8//EN
CALSCALE:GREGORIAN
METHOD:PUBLISH
BEGIN:VEVENT
UID:sabre-vobject-60e379c2-57b2-4ace-b739-8a236745f81c
DTSTAMP:20260425T122413Z
SUMMARY:Der nächste Crash als Chance
DESCRIPTION:Viele Expert*innen schätzen das Risiko für einen weiteren Zus
 ammenbruch des Banken- und Finanzsystems als sehr hoch ein. Wenn sich dies
  bewahrheitet\, sollten Gesellschaft und Politik diesmal besser vorbereite
 t sein und nicht wieder die Banken und Finanzmärkte auf Kosten der Gesell
 schaft retten müssen. Andernfalls drohen eine gravierende politische Legi
 timationskrise\, ein weiterer Aufstieg demokratiefeindlicher Bewegungen un
 d eine existentielle Gefährdung des europäischen Projekts.\n\nDoch gegen
 wärtig ist das Thema einer möglichen Krise in der öffentlichen Debatte 
 kaum vertreten. Auf politischer Ebene steht das Tagesgeschäft im Mittelpu
 nkt und auch bei den meisten zivilgesellschaftlichen Organisationen ist di
 e immense gesellschaftliche Bedeutung des Finanzsystems ein blinder Fleck.
 \n\nDiesem Zustand wird die Tagung „Der nächste Crash als Chance – Sz
 enarien und Reformpotentiale“ etwas Konstruktives entgegensetzen. 300-40
 0 Expert*innen\, Entscheidungsträger*innen und Akteur*innen aus Politik\,
  Wirtschaft\, Zivilgesellschaft und Wissenschaft werden die Gefahr einer n
 ächsten Finanzkrise diskutieren und visionäre Ideen zu Finanzmarktreform
 en\, Geld- und Fiskalpolitik und zur Zukunft des Geldes\, des Euros und de
 r Banken entwickeln und austauschen. Dabei stehen keineswegs pessimistisch
 e Katastrophenszenarien im Vordergrund\, sondern die große Vielfalt an zu
 kunftsweisenden politischen Handlungsoptionen. Im Idealfall kann so der n
 ächste Crash verhindert oder als Chance genutzt werden\, um den Umbau hin
  zu einem nachhaltigen\, gerechten und stabilen Geld- und Finanzsystem vor
 zunehmen\, mit dem die Gesellschaft insbesondere der drohenden Klimakatast
 rophe angemessen begegnen kann.
DTSTART;TZID=Europe/Berlin:20200207T090000
DTEND;TZID=Europe/Berlin:20200207T203000
LOCATION:Gerichtstraße 35 \, Berlin (Deutschland) 
BEGIN:VALARM
ACTION:DISPLAY
DESCRIPTION:Der nächste Crash als Chance
TRIGGER:-PT30M
END:VALARM
END:VEVENT
END:VCALENDAR
