BEGIN:VCALENDAR
VERSION:2.0
PRODID:-//Sabre//Sabre VObject 4.5.8//EN
CALSCALE:GREGORIAN
METHOD:PUBLISH
BEGIN:VEVENT
UID:sabre-vobject-098bf5fe-9b50-4564-91d7-c30fe510a1c6
DTSTAMP:20260421T225213Z
SUMMARY:Just One More Thing
DESCRIPTION:A. L. Kennedy ist eine schottische Autorin von zahlreichen Roma
 nen\, Essays und Zeitungskolumnen\, mit gelegentlichen Auftritten als Stan
 d-up-Comedian\; die meisten ihrer Romane wurden ins Deutsche übersetzt\, 
 zuletzt: »Das Blaue Buch« [2014]«\, »Gleißendes Glück« [2016]\, »L
 eises Schlängeln« [2016]\, »Süßer Ernst« [2018]\, 2020 erschien ihre
  Kurzgeschichtensammlung »We are Attempting to Survive Our Time«\; ihre 
 Kolumnen erscheinen im »Guardian« und zuletzt\, zum ›Brexit-Desaster
 ‹ auch in der »Süddeutschen Zeitung«\; in Deutschland erhielt sie u.a
 . den Heinrich-Heine-Preis der Stadt Düsseldorf.
DTSTART;TZID=Europe/Berlin:20210121T190000
DTEND;TZID=Europe/Berlin:20210121T203000
LOCATION:Unter den Linden 6 \, Berlin (Deutschland) 
BEGIN:VALARM
ACTION:DISPLAY
DESCRIPTION:Just One More Thing
TRIGGER:-PT30M
END:VALARM
END:VEVENT
END:VCALENDAR
