BEGIN:VCALENDAR
VERSION:2.0
PRODID:-//Sabre//Sabre VObject 4.5.8//EN
CALSCALE:GREGORIAN
METHOD:PUBLISH
BEGIN:VEVENT
UID:sabre-vobject-de6dbc71-b15f-431c-a521-9cb49caace61
DTSTAMP:20260422T090751Z
SUMMARY:Die Spätmoderne und ihre Drei-Klassen-Gesellschaft
DESCRIPTION:In den Gesellschaften des globalen Nordens erlebt die Sozialstr
 uktur in den letzten Jahr-zehnten eine tiefgreifende Transformation. Der V
 ortrag verfolgt die These\, dass es sich dabei nicht nur um eine Verstärk
 ung sozioökonomischer Ungleichheiten\, sondern auch um eine Divergenz von
  Mustern der kulturellen Lebensführung handelt\, welche die Form eines Pa
 ternoster-Effekts annimmt: Aus der nivellierten Mittelstandsgesellschaft d
 er industriellen Moderne steigt in der Spätmoderne eine neue\, hochqualif
 izierte Mittelklasse empor\, während eine neue prekäre Klasse absteigt u
 nd die traditionelle Mittelklasse sich in einer Sandwich-Position wiederfi
 ndet. Prozesse der Valorisierung (Aufwertung) und Entwertung verlaufen par
 allel. Der Vortrag fragt nach den Ursachen\, den Strukturmerkmalen und den
  künftigen Folgen dieser Entwicklung.Andreas Reckwitz&nbsp\;ist Professor
  für Kultursoziologie an der Universität Viadrina in Frankfurt/Oder\, za
 hlreiche Arbeiten zur Kulturtheorie in den Sozialwissenschaften\, zur Sozi
 ologie der Subjekt-werdung und zum Strukturwandlung moderner Vergesellscha
 ftung. Publikationen u.a.: „Die Erfindung der Kreativität. Zum Prozess 
 gesellschaftlicher Ästhetisierung“\, Berlin 2012\; „Kreativität und 
 soziale Praxis“\, Bielefeld 2016\; „Die Gesellschaft der Singularität
 en. Zum Strukturwandel der Moderne“\, Berlin 2017\; „Das Ende der Illu
 sionen. Politik\, Ökonomie und Kultur in der Spätmoderne“\, Berlin 201
 9. In diesem Jahr erhielt er den Leibniz-Preis der DFG.
DTSTART;TZID=Europe/Berlin:20191031T190000
DTEND;TZID=Europe/Berlin:20191031T203000
LOCATION:Unter den Linden 6 \, Berlin (Deutschland) 
BEGIN:VALARM
ACTION:DISPLAY
DESCRIPTION:Die Spätmoderne und ihre Drei-Klassen-Gesellschaft
TRIGGER:-PT30M
END:VALARM
END:VEVENT
END:VCALENDAR
