BEGIN:VCALENDAR
VERSION:2.0
PRODID:-//Sabre//Sabre VObject 4.5.8//EN
CALSCALE:GREGORIAN
METHOD:PUBLISH
BEGIN:VEVENT
UID:sabre-vobject-021abe7d-1e60-46e4-85fe-99ddd94d6615
DTSTAMP:20260424T111455Z
SUMMARY:Gebaute Ordnung: Räume der Macht / The Architecture of European In
 tegration
DESCRIPTION:Unser alltägliches Leben wird in nicht unerheblichem Maße von
  der architektonischen Konfiguration des uns umgebenden Raums beeinflusst.
  Hierbei handelt es sich jedoch nur selten um das Produkt zufälliger und 
 nicht intendierter Umstände. So müssen sich Architekt_innen\, die sich m
 it der baulichen Gestaltung von Regierungs- und Behördengebäuden\, städ
 tischen Räumen oder anderen Formen des Gebauten auseinandersetzen\, seit 
 jeher nicht nur nach ästhetischen\, sondern gleichermaßen nach funktiona
 len Anforderungen und Bedürfnissen richten\, die an die von ihnen entworf
 enen Bauten und Architekturen gestellt werden. Resultat sind sich architek
 tonisch manifestierende Räume\, die unter anderem politisch-soziale Ordnu
 ngen und Idealvorstellungen widerspiegeln und konstituieren sollen oder in
  Hinblick auf spezifische Formen der Machtausübung und Machtsicherung ges
 taltet werden.Die Ringvorlesung „Gebaute Ordnung“ wird sich im Sommers
 emester 2021 mit Räumen der Macht auseinandersetzen und insbesondere nach
  der bei ihnen wahrnehmbaren Verzahnung von architektonischen und räumlic
 hen mit politischen und sozialen Ordnungen fragen. Diesem Themenkomplex wi
 rd im Rahmen von vier Abendvorträgen nachgegangen\, bei denen es um Archi
 tekturen der Integration\, der Ausgrenzung und der Vernichtung\, der Repr
 äsentation und Legitimation und der Sicherung von Macht gehen wird.SEBAST
 IANO FABBRINIThe Architecture of European Integration„Architekturen des 
 Ordnens“ ist ein auf vier Jahre (2020-2023) angelegtes interdisziplinär
 es Forschungsprojekt der Goethe-Universität Frankfurt und Technischen Uni
 versität Darmstadt\, mit dem Max-Planck-Institut für Rechtsgeschichte un
 d Rechtstheorie und dem Deutschen Architekturmuseum als außeruniversitär
 en Partnern.
DTSTART;TZID=Europe/Berlin:20210519T180000
DTEND;TZID=Europe/Berlin:20210519T200000
LOCATION:Schaumainkai 43\, Frankfurt am Main (Deutschland) 
BEGIN:VALARM
ACTION:DISPLAY
DESCRIPTION:Gebaute Ordnung: Räume der Macht / The Architecture of Europea
 n Integration
TRIGGER:-PT30M
END:VALARM
END:VEVENT
END:VCALENDAR
