BEGIN:VCALENDAR
VERSION:2.0
PRODID:-//Sabre//Sabre VObject 4.5.8//EN
CALSCALE:GREGORIAN
METHOD:PUBLISH
BEGIN:VEVENT
UID:sabre-vobject-9d76548b-d56b-4121-a7dc-674c326f9927
DTSTAMP:20260422T205525Z
SUMMARY:Urban Green #3 GRÜN NUTZEN – Kleingärten und Urban Farming
DESCRIPTION:Wie kann eine urbane\, solidarische Versorgung aussehen?Neue Pa
 rks und Plätze\, grüne Fassaden und einladende Terrassen — Städte sol
 len grün und lebenswerter werden. Wenn da nicht auch noch ein paar neue W
 ohnungen\, das eine oder andere Geschäft und Straßen als nicht verzichtb
 are Lebensadern der Großstadt wären. Wie trotzdem alles zusammenpasst\, 
 was da und dort zu tun wäre\, wohin mit welchem Grün und wie das Ganze a
 ussehen könnte — Das sind die Themen für Urban_Green\, die Gesprächsr
 eihe zum Mitreden mit den Ideen und Gästen im Grünen und im Draußen …
DTSTART;TZID=Europe/Berlin:20210726T180000
DTEND;TZID=Europe/Berlin:20210726T200000
LOCATION:Mertonstraße 30\, Frankfurt am Main (Deutschland) 
BEGIN:VALARM
ACTION:DISPLAY
DESCRIPTION:Urban Green #3 GRÜN NUTZEN – Kleingärten und Urban Farming
TRIGGER:-PT30M
END:VALARM
END:VEVENT
END:VCALENDAR
