BEGIN:VCALENDAR
VERSION:2.0
PRODID:-//Sabre//Sabre VObject 4.5.8//EN
CALSCALE:GREGORIAN
METHOD:PUBLISH
BEGIN:VEVENT
UID:sabre-vobject-a7b87fbd-27f5-4a09-b184-1e9206bbc353
DTSTAMP:20260422T105711Z
SUMMARY:Dialogplattform Recyclingrohstoffe
DESCRIPTION:Das Bundesministerium für Wirtschaft und Energie (BMWi) hat im
  Rahmen der Rohstoffstrategie der Bundesregierung die Deutsche Rohstoffage
 ntur (DERA) mit der Durchführung einer „Dialogplattform Recyclingrohsto
 ffe“ beauftragt. Für die Geschäftsstelle dieser Dialogplattform hat di
 e DERA als Partner die Deutsche Akademie der Technikwissenschaften (acatec
 h) beauftragt. Ziel dieser 2jährigen Dialogplattform ist es\, Handlungsop
 tionen zu entwickeln\, die zur Erhöhung des Anteils von Recyclingrohstoff
 en an der Rohstoffversorgung der deutschen Industrie beitragen. Der inhalt
 liche Fokus liegt auf metallischen Rohstoffen und Industriemineralen.
DTSTART;TZID=Europe/Berlin:20210617T100000
DTEND;TZID=Europe/Berlin:20210617T120000
LOCATION:Wilhelmstraße 25 – 30 \, Berlin-Spandau (Deutschland) 
BEGIN:VALARM
ACTION:DISPLAY
DESCRIPTION:Dialogplattform Recyclingrohstoffe
TRIGGER:-PT30M
END:VALARM
END:VEVENT
END:VCALENDAR
