BEGIN:VCALENDAR
VERSION:2.0
PRODID:-//Sabre//Sabre VObject 4.5.8//EN
CALSCALE:GREGORIAN
METHOD:PUBLISH
BEGIN:VEVENT
UID:sabre-vobject-250e6c5b-a651-4130-afba-eff262a73277
DTSTAMP:20260421T062939Z
SUMMARY:Hack-a-Salt: Data-Hackathon mit Daten aus Geschichte und Wissenscha
 ft
DESCRIPTION:Daten sind das Salz unserer Zeit. Sie werden als Ressourcen geh
 andelt und behandelt\, denn sie bilden einen Urgrund für die Funktionalit
 ät vieler digitaler Angebote\, von denen die Gesellschaft profitiert. Wie
  beim Prozess des Salzsiedens kommt es darauf an\, die entscheidenden Info
 rmationen – das Salz in den Daten! – durch einen Verarbeitungsprozess 
 zu extrahieren und in eine kristalline Form zu überführen.Zum „Hack-a-
 Salt“ sind alle eingeladen\, die anhand historischer Forschungsdaten in 
 kleinen Teams digitale Projekte realisieren möchten. Die Veranstaltung er
 streckt sich über einen längeren Zeitraum: Auf dem Kick-Off-Workshop am 
 Montag\, 11. Oktober\, werden die Daten vorgestellt und die Gruppen dynami
 sch nach Fähigkeiten und Interessen gebildet. In den darauffolgenden zwei
  Wochen ‚hacken‘ die Gruppen selbständig. Der „Hack-a-Salt“ wird 
 mit einer gemeinsamen Ergebnispräsentation am Samstag\, 30. Oktober\, abg
 eschlossen.Die Veranstaltung richtet sich an alle fachlich Interessierten.
  Die Teilnahme ist kostenfrei. Um eine Anmeldung wird bis Donnerstag\, 7. 
 Oktober 2021\, gebeten.
DTSTART;TZID=Europe/Berlin:20211011T090000
DTEND;TZID=Europe/Berlin:20211030T180000
LOCATION:Jägerberg 1 \, Halle (Saale) (Deutschland) 
BEGIN:VALARM
ACTION:DISPLAY
DESCRIPTION:Hack-a-Salt: Data-Hackathon mit Daten aus Geschichte und Wissen
 schaft
TRIGGER:-PT30M
END:VALARM
END:VEVENT
END:VCALENDAR
