BEGIN:VCALENDAR
VERSION:2.0
PRODID:-//Sabre//Sabre VObject 4.5.8//EN
CALSCALE:GREGORIAN
METHOD:PUBLISH
BEGIN:VEVENT
UID:sabre-vobject-2bd979e1-0ac9-44ca-8d8d-93059df0dd4d
DTSTAMP:20260422T084006Z
SUMMARY:Digitaler Salon: KI – Die Letzte räumt das Internet auf
DESCRIPTION:Einerseits nehmen wir Künstliche Intelligenz (KI) als Zukunfts
 musik wahr: als Wegbereiter für autonome Fahrzeuge\, als virtuelle Shoppi
 ng-Assistenten oder präzise medizinische Diagnostikinstrumente. Andererse
 its begegnet sie uns bereits jetzt im Alltag\, Algorithmen schlagen uns pa
 ssgenau vor\, was wir auf Netflix schauen sollen oder übersetzen beinahe 
 selbstständig Texte in verschiedene Sprachen. Als Teilgebiet der Informat
 ik gilt KI als ein wichtiger Entwicklungsschritt der Digitalisierung. Nebe
 n den Fragen „Was ist dran an dem Hype um KI\, was sind berechtigte Sorg
 en?”\, wollen wir darüber sprechen\, wie in unserer Gesellschaft eigent
 lich über KI verhandelt wird und ob wir mehr Aufklärungsarbeit für den 
 Einsatz und Umgang mit KI benötigen.Die Moderatorin Katja Weber (radioein
 s\, Deutschlandfunk Nova) diskutiert unter anderem mit:Helena Mihaljević&
 nbsp\;ist Mathematikerin mit Forschungsschwerpunkten unter anderem auf sta
 tistischer Datenanalyse und angewandtem maschinellen Lernen und Professori
 n für Data Science an der HTW Berlin.Leonie Beining ist Projektleiterin b
 ei der Stiftung Neue Verantwortung\, arbeitet am Projekt KI Testing &amp\;
  Auditing und setzte sich zuvor im Projekt “Algorithmen fürs Gemeinwohl
 ” mit dem Aspekt der Nachvollziehbarkeit von algorithmischen Entscheidun
 gsprozessen auseinander.Christian Kellermann ist Geschäftsführer des Den
 kwerk Demokratie e.V.\, lehrt an der HTW Berlin (Schwerpunkt Digitalisieru
 ng und Wirtschaft) und war zuvor Geschäftsführer des Instituts für die 
 Geschichte und Zukunft der Arbeit. Er ist Co-Autor des Papers: Künstliche
  Intelligenz und die Zukunft der Arbeitsgesellschaft. Die Einführung übe
 rnimmt Philip Meier\, er ist wissenschaftlicher Mitarbeiter in der Forschu
 ngsgruppe Innovation\, Entrepreneurship &amp\; Gesellschaft und KI-Trainer
  im Projekt Gemeinsam Digital am HIIG.
DTSTART;TZID=Europe/Berlin:20210331T190000
DTEND;TZID=Europe/Berlin:20210331T200000
LOCATION:Französische Straße 9 \, Berlin (Deutschland) 
BEGIN:VALARM
ACTION:DISPLAY
DESCRIPTION:Digitaler Salon: KI – Die Letzte räumt das Internet auf
TRIGGER:-PT30M
END:VALARM
END:VEVENT
END:VCALENDAR
